BEGIN:VCALENDAR
VERSION:2.0
PRODID:-//Tukios.com/
BEGIN:VEVENT
UID:8ee2e294-b68f-4e4a-abe9-7d3c94b9f974@www.martinwilsonfuneralhome.com
DTSTAMP:20260423T200737Z
DTSTART:20260427T210000Z
DTEND:20260427T220000Z
SUMMARY:Visitation
DESCRIPTION:
URL:https://www.martinwilsonfuneralhome.com/obituaries/kenneth-warren
LOCATION: 305 E Beech St  LaFollette TN 37766
GEO:36.3818588;-84.118202
END:VEVENT
END:VCALENDAR