BEGIN:VCALENDAR
VERSION:2.0
PRODID:-//Tukios.com/
BEGIN:VEVENT
UID:4d22428c-2947-4477-80c8-f9f0152d3de7@www.martinwilsonfuneralhome.com
DTSTAMP:20260423T200420Z
DTSTART:20260427T220000Z
DTEND:20260427T230000Z
SUMMARY:Funeral Service
DESCRIPTION:
URL:https://www.martinwilsonfuneralhome.com/obituaries/kenneth-warren
LOCATION: 305 E Beech St  LaFollette TN 37766
GEO:36.3818588;-84.118202
END:VEVENT
END:VCALENDAR